BEGIN:VCALENDAR
VERSION:2.0
PRODID:-//Library Market//iCal Export//EN
BEGIN:VEVENT
SUMMARY:White Hart Speaker Series: Author Cynthia d&#039;Aprix Sweeney, LA
 KE EFFECT
UID:1177
DTSTAMP:20260419T234300Z
DTSTART:20260513T223000Z
DTEND:20260513T233000Z
LOCATION:The White Hart Inn, 15 Undermountain Road, Salisbury, CT 06068, U
 nited States
ROOM: White Hart Speaker Series: Author Cynthia d&#039;Aprix Sweeney, LAKE
  EFFECT
DESCRIPTION:Presented by Oblong Books in partnership with The White Hart I
 nn and the Scoville Memorial Library at the White Hart Inn,Â 15 Under Moun
 tain Road, Salisbury, CT.Â Tickets are required for this White Hart Series
  event. To learn more and purchase an advance ticket, please use this link
 .Â From the New York Times bestselling author comes a wry and tender portr
 ait of two families forever changed by one lovestruck decision that will r
 everberate for decades.Written with Cynthia Dâ€™Aprix Sweeneyâ€™s signatur
 e humor and insight, Lake Effect is a wise and probing look at love and de
 sire, mothers and daughters, loss and grief, and what we owe the people we
  love most.Cynthia Dâ€™Aprix Sweeney is the author of the instant New York
  Times bestselling novels The Nest (named a best book of the year by Peopl
 e, the Washington Post, and NPR) and Good Company (a Read with Jenna selec
 tion). She has been a guest on Today, Late Night with Seth Meyers and NPRâ
 €™s All Things Considered. Her work has been translated into more than twe
 nty-eight languages, and The Nest is in development as a limited series wi
 th AMC Studios. Sweeney holds an MFA from the Bennington Writing Seminars.
  She and her husband live in New York City.Maggie Levine writes about the 
 intersections between art and writing. Her Substack, ArtWrite, combines in
 terviews with artists, including Laurie Simmons, Kyle Staver, Kate Shepher
 d, and Shai Azoulay, with personal essays. She also hosts live conversatio
 ns pairing writers and artists such as Dani Shapiro with Laura Karetzky, a
 nd Jenny Offill with Alexis Rockman. She is a contributing writer to Field
 Work, a quarterly publication celebrating the work of artists and makers. 
 A graduate of Barnard College and the University of Arizona&#039;s MFA pro
 gram in Fiction, she taught English for 25 years at independent schools in
  New York City, designed curriculum for the Art Institute of Chicago, and 
 edited Thor Rinden: Holiday Cards 1962â€“2009.Â Â 
URL:https://www.scovillelibrary.org/event/white-hart-speaker-series-author
 -cynthia-daprix-sweeney-lake-effect-1177
END:VEVENT
END:VCALENDAR
