BEGIN:VCALENDAR
VERSION:2.0
PRODID:-//Library Market//iCal Export//EN
BEGIN:VEVENT
SUMMARY:End of School Teen After Hours &amp; Book Swap
UID:2160
DTSTAMP:20260419T220100Z
DTSTART:20260626T213000Z
DTEND:20260626T230000Z
LOCATION:Scoville Memorial Library, 38 Main Street, Salisbury, CT 06068, U
 nited States
ROOM: Reading Room
DESCRIPTION:Join us once again for a teen &amp; tween after hours mocktail
  party and bookswap!Middle &amp; High schoolers are welcome to join SML fo
 r &quot;drinks&quot;, sandwiches, music, and books. The FSL stacks will al
 so be open for anyone with a couple bucks or there will be a selection of 
 teen titles to swap out with. Mocktails will be provided by The Friends o
 f the Library. Perfect start to Spring Break!     This program is ma
 de possible by contributions from the Friends of the Scoville Library an
 d from library patrons like you.
URL:https://www.scovillelibrary.org/event/end-school-teen-after-hours-book
 -swap-2160
END:VEVENT
END:VCALENDAR
