BEGIN:VCALENDAR
VERSION:2.0
PRODID:-//Library Market//iCal Export//EN
BEGIN:VEVENT
SUMMARY:Copy of Fix-It Pop-Up! Free Repairs
UID:2167
DTSTAMP:20260422T083400Z
DTSTART:20250523T140000Z
DTEND:20250523T180000Z
LOCATION:Congregational Church of Salisbury Scoville Library Lawn, Library
  Street, Salisbury, CT 06068, United States
ROOM: Copy of Fix-It Pop-Up! Free Repairs
DESCRIPTION:The Congregational Church of Salisbury, the Scoville Library, 
 and TRACÂ have teamed up to host a Fix-it Pop-up!Â Please scroll down to s
 ign up for a repair appointment.Do you have an item that needs fixing? Jew
 elry that&#039;s come unstrung, a torn favorite shirt, a lamp that won&#03
 9;t light, a wobbly chair, a broken zipper, a book with a cracked spine, a
  bike that skips gears? Get a free fix and give your item a new life!We&#0
 39;ve gathered some local expert fixers who are eager to help. Sign up, te
 ll us what kind of repair you need, bring in your item, and our volunteers
  will do their best to fix it.This is a fun event and a chance to learn! P
 lease be prepared to stay while your item is being repaired, meet the repa
 irer, watch how the repair is done, ask questions, and make new friends.Wh
 en:Â Saturday, May 23rd, 10:00 AM - 2:00 PMÂ Where:Â The Congregational Ch
 urch of Salisbury &amp; the Scoville Library lawnWhat: Repairs involving b
 asic bike maintenance, jewelry, lamps &amp; small electrical appliances, s
 mall furniture, book spines (re-taping), sewing and mending, and tech help
  with PC software and trouble-shooting.Who: The Fix-It Pop-Up is open to e
 veryone. We strongly recommend that you sign up for an appointment using t
 he Fix-it Sign-Up (see below). Walk-ins will also be accommodated if time 
 allows.How: To reserve a slot for your repair, please follow the instructi
 ons below:1. First, please click this link: GUIDELINES &amp; REQUIREMENTSÂ
  to read the guidelines and understand the process.2. Then use this link: 
 FIX-IT SIGN-UP FORM to reserve your slot. Please use the &quot;My Comment&
 quot; box in the form to describe the repair you need so that our voluntee
 rs can be prepared with any tools and supplies needed3. We&#039;ll confirm
  your appointment time and location (either the Congregational Church hall
  or the library lawn) and will follow up with questions if needed.4. Show 
 up for your appointment, check in at the reception desk, meet the repairer
 , and then watch and learn as they work their magic!All repairs are offere
 d for free. (Voluntary donations to offset repair expenses will be accepte
 d if offered.)This is not a drop-off repair; it&#039;s a chance to watch a
 nd learn! You&#039;ll stay with your item and the repairer to see how repa
 irs are done.Disclaimer: Our volunteers are skilled and determined, but th
 ey may not be able to fix every item. Volunteer fixers, the Congregational
  Church, and the Scoville Library offer no guarantee for repairs and are n
 ot liable for any damage or loss.
URL:https://www.scovillelibrary.org/event/copy-fix-it-pop-free-repairs-216
 7
END:VEVENT
END:VCALENDAR
