BEGIN:VCALENDAR
VERSION:2.0
PRODID:-//Library Market//iCal Export//EN
BEGIN:VEVENT
SUMMARY:Sophomores &amp; Seniors Book Group
UID:2232
DTSTAMP:20260424T095200Z
DTSTART:20260524T180000Z
DTEND:20260524T190000Z
LOCATION:Noble Horizons, 17 Cobble Rd, Learning Center?, Salisbury, CT 060
 68, United States
ROOM: Sophomores &amp; Seniors Book Group
DESCRIPTION:This book group is an opportunity for retirees to meet with Ho
 tchkiss students Coco Sheronas Declan Cockburn-Scheff  to discuss YA/Teen
  literature.Anyone is welcome to join us.&quot;Paper Towns&quot; by John G
 reen&quot;Quentin Jacobsen has spent a lifetime loving the magnificently a
 dventurous Margo Roth Spiegelman from afar. So when she cracks open a wind
 ow and climbs into his life—dressed like a ninja and summoning him for a
 n ingenious campaign of revenge—he follows. After their all-nighter ends
 , and a new day breaks, Q arrives at school to discover that Margo, always
  an enigma, has now become a mystery. But Q soon learns that there are clu
 es—and they&#039;re for him. Urged down a disconnected path, the closer 
 he gets, the less Q sees the girl he thought he knew...&quot;
URL:https://www.scovillelibrary.org/event/sophomores-seniors-book-group-22
 32
END:VEVENT
END:VCALENDAR
