BEGIN:VCALENDAR
VERSION:2.0
PRODID:-//Library Market//iCal Export//EN
BEGIN:VEVENT
SUMMARY:Summer Book Club
UID:2233
DTSTAMP:20260424T194500Z
DTSTART:20260709T180000Z
DTEND:20260709T190000Z
LOCATION:Scoville Memorial Library, 38 Main Street, Salisbury, CT 06068, U
 nited States
ROOM: Oak Room
DESCRIPTION:Join us for good company and a discussion of:&quot;There Are R
 ivers in the Sky&quot; By Elif Shafak&quot;In the ancient city of Nineveh,
  on the bank of the River Tigris, King Ashurbanipal of Mesopotamia, erudit
 e but ruthless, built a great library that would crumble with the end of h
 is reign. From its ruins, however, emerged a poem, the Epic of Gilgamesh, 
 that would infuse the existence of two rivers and bind together three live
 s...Â A dazzling feat of storytelling, There Are Rivers in the Sky entwine
 s these outsiders with a single drop of water, a drop which remanifests ac
 ross the centuries. Both a source of life and harbinger of death, riversâ€
 ”the Tigris and the Thamesâ€”transcend history, transcend fate: â€śWater r
 emembers. It is humans who forget.â€ť
URL:https://www.scovillelibrary.org/event/summer-reading-group-2233
END:VEVENT
END:VCALENDAR
